BEGIN:VCALENDAR
VERSION:2.0
PRODID:-//Roxbury Area Chamber of Commerce - ECPv6.15.20//NONSGML v1.0//EN
CALSCALE:GREGORIAN
METHOD:PUBLISH
X-ORIGINAL-URL:https://roxburynjchamber.org
X-WR-CALDESC:Events for Roxbury Area Chamber of Commerce
REFRESH-INTERVAL;VALUE=DURATION:PT1H
X-Robots-Tag:noindex
X-PUBLISHED-TTL:PT1H
BEGIN:VTIMEZONE
TZID:America/New_York
BEGIN:DAYLIGHT
TZOFFSETFROM:-0500
TZOFFSETTO:-0400
TZNAME:EDT
DTSTART:20240310T070000
END:DAYLIGHT
BEGIN:STANDARD
TZOFFSETFROM:-0400
TZOFFSETTO:-0500
TZNAME:EST
DTSTART:20241103T060000
END:STANDARD
BEGIN:DAYLIGHT
TZOFFSETFROM:-0500
TZOFFSETTO:-0400
TZNAME:EDT
DTSTART:20250309T070000
END:DAYLIGHT
BEGIN:STANDARD
TZOFFSETFROM:-0400
TZOFFSETTO:-0500
TZNAME:EST
DTSTART:20251102T060000
END:STANDARD
BEGIN:DAYLIGHT
TZOFFSETFROM:-0500
TZOFFSETTO:-0400
TZNAME:EDT
DTSTART:20260308T070000
END:DAYLIGHT
BEGIN:STANDARD
TZOFFSETFROM:-0400
TZOFFSETTO:-0500
TZNAME:EST
DTSTART:20261101T060000
END:STANDARD
END:VTIMEZONE
BEGIN:VEVENT
DTSTART;TZID=America/New_York:20251206T110000
DTEND;TZID=America/New_York:20251206T150000
DTSTAMP:20260424T183457
CREATED:20240611T142031Z
LAST-MODIFIED:20251119T144631Z
UID:2807-1765018800-1765033200@roxburynjchamber.org
SUMMARY:Santa Land: Pictures with Santa!
DESCRIPTION:Santa Land: Pictures with Santa!\nSanta will arrive at the library by fire truck at 11:05 a.m.\, then pose with you and your little ones for a perfect holiday picture. Sponsored by the Roxbury Area Chamber of Commerce and the Roxbury Public Library. There is a suggested minimum donation of $5.00 for a printed picture with Santa; all proceeds go to the Roxbury Social Services Department. \nHo Ho Ho!\nHelp us make Santa Land a little more organized and a little less crowded this year! \nRegistration information: https://calendly.com/roxbury/santa-land \nReservations are strongly requested and priority will be given to those who register in advance. Walk-ins are welcome\, starting at 12:30pm. Also enjoy doing crafts and watching the entertainment in the library! \n \n  \n\n\nPart of the Roxbury Home for the Holidays Event on Main Street   https://www.roxburynj.us/494/2025-Home-for-the-Holidays
URL:https://roxburynjchamber.org/event/santa-land/
LOCATION:Roxbury Public Library\, 103 Main Street\, Succasunna\, NJ\, 07876
CATEGORIES:Community Events,RACC Events
ATTACH;FMTTYPE=image/jpeg:https://roxburynjchamber.org/wp-content/uploads/2024/06/2025-flyer.jpg
ORGANIZER;CN="Roxbury Area Chamber of Commerce":MAILTO:info@roxburynjchamber.org
END:VEVENT
END:VCALENDAR