BEGIN:VCALENDAR
VERSION:2.0
PRODID:-//Roxbury Area Chamber of Commerce - ECPv6.15.20//NONSGML v1.0//EN
CALSCALE:GREGORIAN
METHOD:PUBLISH
X-WR-CALNAME:Roxbury Area Chamber of Commerce
X-ORIGINAL-URL:https://roxburynjchamber.org
X-WR-CALDESC:Events for Roxbury Area Chamber of Commerce
REFRESH-INTERVAL;VALUE=DURATION:PT1H
X-Robots-Tag:noindex
X-PUBLISHED-TTL:PT1H
BEGIN:VTIMEZONE
TZID:America/New_York
BEGIN:DAYLIGHT
TZOFFSETFROM:-0500
TZOFFSETTO:-0400
TZNAME:EDT
DTSTART:20250309T070000
END:DAYLIGHT
BEGIN:STANDARD
TZOFFSETFROM:-0400
TZOFFSETTO:-0500
TZNAME:EST
DTSTART:20251102T060000
END:STANDARD
BEGIN:DAYLIGHT
TZOFFSETFROM:-0500
TZOFFSETTO:-0400
TZNAME:EDT
DTSTART:20260308T070000
END:DAYLIGHT
BEGIN:STANDARD
TZOFFSETFROM:-0400
TZOFFSETTO:-0500
TZNAME:EST
DTSTART:20261101T060000
END:STANDARD
BEGIN:DAYLIGHT
TZOFFSETFROM:-0500
TZOFFSETTO:-0400
TZNAME:EDT
DTSTART:20270314T070000
END:DAYLIGHT
BEGIN:STANDARD
TZOFFSETFROM:-0400
TZOFFSETTO:-0500
TZNAME:EST
DTSTART:20271107T060000
END:STANDARD
END:VTIMEZONE
BEGIN:VEVENT
DTSTART;TZID=America/New_York:20260218T120000
DTEND;TZID=America/New_York:20260218T133000
DTSTAMP:20260424T154051
CREATED:20251230T183925Z
LAST-MODIFIED:20260213T011232Z
UID:3719-1771416000-1771421400@roxburynjchamber.org
SUMMARY:Workforce Development with Roxbury HS (click for more info)
DESCRIPTION:Roxbury High School’s Workforce Development Programs\n\nLearn all about these programs and how your business can be part of it. \nHigh school students are active in local businesses in the area through job opportunities\, internships\, independent study\, and more. \nPlus hear about other RHS programs like the Structural & Design Fabrication Lab (building houses)\, and their Aviation Academy.\n\n\n\n\nHear from:\nDr. Frank Santora – Superintendent of Roxbury School District \nTheresa Fernandes\, M.A.\,  BCBA – Transition Coordinator/Work-Based Learning Supervisor\, \nMelissa Mainiero – Co-op Coordinator\nChristine Seminerio – Director of Special Services\n\n\n\n\nJoin us on Wednesday February 18th\nWe’ll begin at NOON with introductions around the room\, lunch and our featured speaker. \nDoors open early for check-in and open networking from 11:30-12:00. \n  \n \n  \nAll area business owners and representatives are welcome.  \nMore attendees brings better networking and more future referrals! \nLocation: Ariya the Venue \nLunch: Catered by Joe’s Pizzeria & Restaurant \nThe menu includes salad\, Chicken Francese\, Eggplant Rolatini\, and Penne Vodka. \nMembers & representatives $30  New non-members are welcome too $35     \nPlease RSVP by 2/17 \nBring your business cards and marketing materials to share \n\n\n                \n                        \n                            Luncheon Payments\n                             \n							"*" indicates required fields \n                        \n                        EmailThis field is for validation purposes and should be left unchanged.Name*\n                            \n                            \n                                                    \n                                                    First\n                                                \n                            \n                            \n                                                    \n                                                    Last\n                                                \n                            \n                        Company*Email*\n                            \n                        I am a:*\n			\n					\n					RACC Member\n			\n			\n					\n					Non-Member or Guest\n			Select luncheon tickets below.Member TicketsEnter the number of "member" tickets you'd like to purchase.Meeting Month (Member)April LuncheonMarch LuncheonApril Speed NetworkingMay LuncheonJune  Multi-Chamber LuncheonSeptember LuncheonOctober LuncheonOctober Multi ChamberNovember LuncheonDecember Holiday & Award LuncheonPlease select the Month of the meeting you are registering for. * = Multi-chamber event.Non-Member Tickets:Enter the number of "non-member" tickets you'd like to purchase.Meeting Month (Non-Member)April LuncheonMarch LuncheonApril LuncheonMay LuncheonJune Multi-Chamber LuncheonSeptember LuncheonOctober LuncheonOctober Multi ChamberNovember LuncheonDecember Holiday & Award LuncheonPlease select the Month of the meeting you are registering for. * = Multi-chamber event.Tell my Friend\n								\n								Please tell my friend I am attending.\n							Friend's Email Address*\n                            \n                        Notes & NamesPlease list the names of the additional members\, colleagues and/or guests that you are submitting this payment for here.[time-restrict on="2019-05-16" off="2019-06-18"]\n\n	\n	Use coupon code EARLYBIRD619 to save $10 off of your luncheon registration. \n\n[/time-restrict]Scholarship Donation\n					\n				In addition to your luncheon payment; enter an amount you'd like to contribute.CouponEnter a discount code if you have one\, then click apply.Total (Choose Credit Card or PayPal/Debit Card)\n							\n						Choose Payment Method: Note - if you need a receipt\, you must login to PayPal even if not paying with PayPalPayPal CheckoutCredit Card\n                                    American ExpressMasterCardVisaSupported Credit Cards: American Express\, MasterCard\, Visa\n                                    \n                                    Card Number\n                                 \n                                            \n                                                \n                                                Expiration Date\n                                            \n                                                \n                                                 \n                                                Security Code\n                                             \n                                        \n                                            \n                                            Cardholder Name\n                                         CAPTCHA\n          \n            \n            \n            \n            \n            \n            \n            \n            \n            \n            \n            \n            \n            \n        \n                        \n                        \n\nOUR MEETING SPONSOR IS IVY REHAB PHYSICAL THERAPY\n \nThe highly skilled clinicians at Ivy Rehab\, located at 711 Route 10 in Randolph\, are here to help you get back to feeling your best again! Ivy Rehab is a rapidly growing network of physical & occupational therapy clinics dedicated to providing exceptional care and personalized treatment to get patients feeling better\, faster. At Ivy\, we’re not just about top-notch care for our patients – we’re all in for our team\, too! We offer amazing learning opportunities like continuing education\, residency programs\, mentorship\, leadership development\, and equity partnerships. \nWe’re a tight-knit team driven by a passion for clinical excellence. Always curious\, always improving – we research\, learn\, educate\, and treat to understand our patients better every day. Our specialists team up with healthcare pros\, universities\, and organizations to bring our patients the very best care. Together\, we’re here to help everyone live life to the fullest. \n\n  \n\n\n\nInformation for our events will be available on our website https://roxburynjchamber.org and will be updated as more information is available. We have a nice mix of luncheons\, evening and morning events to include everyone that can’t make our luncheons. We hope to see you soon! \n\n\nParticipation in Chamber events will help increase your referrals and overall business. 
URL:https://roxburynjchamber.org/event/workforce-development/
LOCATION:Ariya the Venue\, 180 Howard Blvd.\, Mt. Arlington\, NJ\, 07856
CATEGORIES:Luncheon Meetings,RACC Events
ATTACH;FMTTYPE=image/webp:https://roxburynjchamber.org/wp-content/uploads/2025/12/RHS-logo.webp
ORGANIZER;CN="Roxbury Area Chamber of Commerce":MAILTO:info@roxburynjchamber.org
END:VEVENT
END:VCALENDAR