BEGIN:VCALENDAR
VERSION:2.0
PRODID:-//Roxbury Area Chamber of Commerce - ECPv6.15.20//NONSGML v1.0//EN
CALSCALE:GREGORIAN
METHOD:PUBLISH
X-WR-CALNAME:Roxbury Area Chamber of Commerce
X-ORIGINAL-URL:https://roxburynjchamber.org
X-WR-CALDESC:Events for Roxbury Area Chamber of Commerce
REFRESH-INTERVAL;VALUE=DURATION:PT1H
X-Robots-Tag:noindex
X-PUBLISHED-TTL:PT1H
BEGIN:VTIMEZONE
TZID:America/New_York
BEGIN:DAYLIGHT
TZOFFSETFROM:-0500
TZOFFSETTO:-0400
TZNAME:EDT
DTSTART:20230312T070000
END:DAYLIGHT
BEGIN:STANDARD
TZOFFSETFROM:-0400
TZOFFSETTO:-0500
TZNAME:EST
DTSTART:20231105T060000
END:STANDARD
BEGIN:DAYLIGHT
TZOFFSETFROM:-0500
TZOFFSETTO:-0400
TZNAME:EDT
DTSTART:20240310T070000
END:DAYLIGHT
BEGIN:STANDARD
TZOFFSETFROM:-0400
TZOFFSETTO:-0500
TZNAME:EST
DTSTART:20241103T060000
END:STANDARD
BEGIN:DAYLIGHT
TZOFFSETFROM:-0500
TZOFFSETTO:-0400
TZNAME:EDT
DTSTART:20250309T070000
END:DAYLIGHT
BEGIN:STANDARD
TZOFFSETFROM:-0400
TZOFFSETTO:-0500
TZNAME:EST
DTSTART:20251102T060000
END:STANDARD
END:VTIMEZONE
BEGIN:VEVENT
DTSTART;TZID=America/New_York:20241125T190000
DTEND;TZID=America/New_York:20241125T200000
DTSTAMP:20260425T175430
CREATED:20240325T134327Z
LAST-MODIFIED:20241017T161313Z
UID:1801-1732561200-1732564800@roxburynjchamber.org
SUMMARY:Business Beyond Basics (Virtual): Maximizing Canva's Free Tools for Your Business
DESCRIPTION:Produced jointly by the Roxbury Area Chamber of Commerce and the Roxbury Public Library\, Business Beyond Basics Events provide continuing education programs that bring businesses and the community together to network\, learn\, and grow.  \n\n\n\n\n\n\n\n\n\n\n\n  \nMaximizing Canva’s Free Tools for Your Business\nA Business Beyond Basics Program (Virtual)\n\n\n\n\nMonday\, November 25    7:00pm – 8:00pm\n\n\n\n\n\n\n\n\n\n\n\nUsing the free version of Canva\, Juana Magan from Network Brainiacs will demonstrate its different tools and features so you can maximize your effectiveness in promoting your brand. \n\n\n\n\n\n\n\nYou will learn how to maximize its tools and features\, including: \n\nAdvanced Canva Features: Discover how to leverage Canva’s free version for professional designs in your specific industry.\nBrand Consistency: Learn how to maintain brand consistency across social media\, presentations\, and printed materials with Canva.\nOptimizing for Social Media: Master the creation of engaging and dynamic social media posts\, including using Canva’s free animation features.\nInteractive Presentations: Explore how to build interactive\, visually appealing presentations that captivate your audience.\nCollaborative Design: Understand how to collaborate with team members or freelancers in real-time using Canva’s shared features.\nPractical Hands-On Activity: Walk through a guided activity to create marketing collateral for your business or event\nFree Version Maximization: Tips and tricks to get the most out of Canva’s free templates\, elements\, and animation features.\n\n\nREGISTER\n\n  \nAbout Network Brainiacs: Network Brainiacs’ mission is to make lives convenient through the seamless integration of technology\, driven by a passion for serving others and an unwavering commitment to excellence. Network Brainiacs doesn’t just s just solve IT problems—it empowers businesses to thrive through technology.  Network Brainiacs is a Managed Services Provider that specializes in delivering tailored IT solutions for the Healthcare Industry and Small to Medium-Sized businesses (SMBs). Since its founding in 2011\, Network Brainiacs has focused on helping clients navigate complex IT challenges by securing their data\, improving system performance\, and ensuring compliance with industry regulations. The company provides a wide range of services including Managed and Co-Managed IT\, Cybersecurity\, VoIP Solutions\, Network infrastructure Support\, and Compliance Consulting.  By proactively identifying and resolving issues such as security vulnerabilities\, system downtime\, and inefficient workflows\, Network Brainiacs ensures that clients can focus on their core business operations. Their commitment to delivering top-notch customer experience\, combined with a passion for solving technical problems\, makes them a trusted partner for clients looking for both IT support and long-term strategic solutions. \nThis program is part of our Business Beyond Basics series.  Business Beyond Basics provides continuing education programs that bring businesses and the community together to network\, learn and advance.  Produced jointly by Roxbury Area Chamber of Commerce\, Roxbury Public Library and the Roxbury Economic Development Committee. \n  \nRegister online or by calling the Library at (973) 584-2400. \n\n\n\n\n\n\nREGISTER here: https://www.roxburylibrary.org/event/12068814 or by calling the library at (973) 584-2400. \n 
URL:https://roxburynjchamber.org/event/bbb-how-to-write-for-your-website/
LOCATION:New Jersey
CATEGORIES:Business Beyond Basics,Member Event
ATTACH;FMTTYPE=image/png:https://roxburynjchamber.org/wp-content/uploads/2024/03/Business-Beyond-Basics-4.png
ORGANIZER;CN="Roxbury Area Chamber of Commerce":MAILTO:info@roxburynjchamber.org
END:VEVENT
END:VCALENDAR