BEGIN:VCALENDAR
VERSION:2.0
PRODID:-//Roxbury Area Chamber of Commerce - ECPv6.15.20//NONSGML v1.0//EN
CALSCALE:GREGORIAN
METHOD:PUBLISH
X-ORIGINAL-URL:https://roxburynjchamber.org
X-WR-CALDESC:Events for Roxbury Area Chamber of Commerce
REFRESH-INTERVAL;VALUE=DURATION:PT1H
X-Robots-Tag:noindex
X-PUBLISHED-TTL:PT1H
BEGIN:VTIMEZONE
TZID:America/New_York
BEGIN:DAYLIGHT
TZOFFSETFROM:-0500
TZOFFSETTO:-0400
TZNAME:EDT
DTSTART:20240310T070000
END:DAYLIGHT
BEGIN:STANDARD
TZOFFSETFROM:-0400
TZOFFSETTO:-0500
TZNAME:EST
DTSTART:20241103T060000
END:STANDARD
BEGIN:DAYLIGHT
TZOFFSETFROM:-0500
TZOFFSETTO:-0400
TZNAME:EDT
DTSTART:20250309T070000
END:DAYLIGHT
BEGIN:STANDARD
TZOFFSETFROM:-0400
TZOFFSETTO:-0500
TZNAME:EST
DTSTART:20251102T060000
END:STANDARD
BEGIN:DAYLIGHT
TZOFFSETFROM:-0500
TZOFFSETTO:-0400
TZNAME:EDT
DTSTART:20260308T070000
END:DAYLIGHT
BEGIN:STANDARD
TZOFFSETFROM:-0400
TZOFFSETTO:-0500
TZNAME:EST
DTSTART:20261101T060000
END:STANDARD
END:VTIMEZONE
BEGIN:VEVENT
DTSTART;TZID=America/New_York:20250621T080000
DTEND;TZID=America/New_York:20250622T160000
DTSTAMP:20260425T062154
CREATED:20250502T145118Z
LAST-MODIFIED:20250509T183950Z
UID:3480-1750492800-1750608000@roxburynjchamber.org
SUMMARY:Town-Wide Garage Sale June 21-22 Information
DESCRIPTION:Town-Wide Garage Sale\nThis annual event is now being hosted by the Roxbury Public Library to help support the Roxbury Library Foundation. Please register your sale through the link below. It’s only $5 to get on the map and be part of a community event!\n\n\n\n\n\nPlease click here to register your garage sale!\n  \n\n\n\n\n\n\nRoxbury Library will publish a map and spreadsheet of the registered properties on our website. We will also print out physical copies available at the library starting on Friday June 20th.\n\n\n\n\n\n\n  \nDonate to get your sale put on the map and directory! \nDonations can also be made by cash or check to the Roxbury Library Foundation. \n 
URL:https://roxburynjchamber.org/event/town-wide-garage-sale-june-21-22-information/
CATEGORIES:Community Events
ORGANIZER;CN="Roxbury Public Library":MAILTO:comments@roxburylibrary.org
END:VEVENT
END:VCALENDAR