BEGIN:VCALENDAR
VERSION:2.0
PRODID:-//Roxbury Area Chamber of Commerce - ECPv6.15.20//NONSGML v1.0//EN
CALSCALE:GREGORIAN
METHOD:PUBLISH
X-ORIGINAL-URL:https://roxburynjchamber.org
X-WR-CALDESC:Events for Roxbury Area Chamber of Commerce
REFRESH-INTERVAL;VALUE=DURATION:PT1H
X-Robots-Tag:noindex
X-PUBLISHED-TTL:PT1H
BEGIN:VTIMEZONE
TZID:America/New_York
BEGIN:DAYLIGHT
TZOFFSETFROM:-0500
TZOFFSETTO:-0400
TZNAME:EDT
DTSTART:20240310T070000
END:DAYLIGHT
BEGIN:STANDARD
TZOFFSETFROM:-0400
TZOFFSETTO:-0500
TZNAME:EST
DTSTART:20241103T060000
END:STANDARD
BEGIN:DAYLIGHT
TZOFFSETFROM:-0500
TZOFFSETTO:-0400
TZNAME:EDT
DTSTART:20250309T070000
END:DAYLIGHT
BEGIN:STANDARD
TZOFFSETFROM:-0400
TZOFFSETTO:-0500
TZNAME:EST
DTSTART:20251102T060000
END:STANDARD
BEGIN:DAYLIGHT
TZOFFSETFROM:-0500
TZOFFSETTO:-0400
TZNAME:EDT
DTSTART:20260308T070000
END:DAYLIGHT
BEGIN:STANDARD
TZOFFSETFROM:-0400
TZOFFSETTO:-0500
TZNAME:EST
DTSTART:20261101T060000
END:STANDARD
END:VTIMEZONE
BEGIN:VEVENT
DTSTART;TZID=America/New_York:20250627T080000
DTEND;TZID=America/New_York:20250907T170000
DTSTAMP:20260425T062154
CREATED:20250627T184717Z
LAST-MODIFIED:20250627T184717Z
UID:3537-1751011200-1757264400@roxburynjchamber.org
SUMMARY:Free Local Summer Concerts
DESCRIPTION:Happy Summer!\n\n\n\n\n\n\n\nEnjoy free outdoor concerts this summer in Roxbury\, Netcong & Mt. Arlington\nSee below for additional information.\n\n\n\n \n\n\n \n \nRoxbury Arts Alliance: http://www.roxburyartsalliance.org \nBring your own chairs and non-alcohol refreshments\nWell-behaved\, leashed dogs are welcome (unless the event is moved inside)\nEvents are free\, donations are always welcome and appreciated\nEvents are rain or shine. In the event of inclement weather\, concerts and dancing will move inside the theater at 72 Eyland Ave\, Succasunna.\nJuly 17\, 24\, 31 are Dine to Donate nights sponsored by Joe’s Pizzeria of Kenvil. 11am-9pm Dine at Joe’s or order takeout and RAA will receive a 15% donation! \n\n\n\nRoxbury Public Library: https://roxburylibrary.org/summer-concert-series-16271\nAll Monday night performances are at 6:30pm\, and if mother nature interferes\, a rain date will be announced. \n\nJune and July concerts at Horseshoe Lake Gazebo\nAugust and September concerts at Roxbury Library Gazebo\n\nAugust 4th concert: At this concert\, the first 100 attendees who bring donations to Roxbury Social Services will receive free ice cream!\n\nMt. Arlington: \nNote the location and time change on September 6th\n\nNetcong:\nSign up for alerts/cancellations at: netcong.org/ravealert
URL:https://roxburynjchamber.org/event/free-local-summer-concerts/
CATEGORIES:Community Events
END:VEVENT
END:VCALENDAR