BEGIN:VCALENDAR
VERSION:2.0
PRODID:-//Roxbury Area Chamber of Commerce - ECPv6.15.20//NONSGML v1.0//EN
CALSCALE:GREGORIAN
METHOD:PUBLISH
X-ORIGINAL-URL:https://roxburynjchamber.org
X-WR-CALDESC:Events for Roxbury Area Chamber of Commerce
REFRESH-INTERVAL;VALUE=DURATION:PT1H
X-Robots-Tag:noindex
X-PUBLISHED-TTL:PT1H
BEGIN:VTIMEZONE
TZID:America/New_York
BEGIN:DAYLIGHT
TZOFFSETFROM:-0500
TZOFFSETTO:-0400
TZNAME:EDT
DTSTART:20240310T070000
END:DAYLIGHT
BEGIN:STANDARD
TZOFFSETFROM:-0400
TZOFFSETTO:-0500
TZNAME:EST
DTSTART:20241103T060000
END:STANDARD
BEGIN:DAYLIGHT
TZOFFSETFROM:-0500
TZOFFSETTO:-0400
TZNAME:EDT
DTSTART:20250309T070000
END:DAYLIGHT
BEGIN:STANDARD
TZOFFSETFROM:-0400
TZOFFSETTO:-0500
TZNAME:EST
DTSTART:20251102T060000
END:STANDARD
BEGIN:DAYLIGHT
TZOFFSETFROM:-0500
TZOFFSETTO:-0400
TZNAME:EDT
DTSTART:20260308T070000
END:DAYLIGHT
BEGIN:STANDARD
TZOFFSETFROM:-0400
TZOFFSETTO:-0500
TZNAME:EST
DTSTART:20261101T060000
END:STANDARD
END:VTIMEZONE
BEGIN:VEVENT
DTSTART;TZID=America/New_York:20250725T073000
DTEND;TZID=America/New_York:20250725T090000
DTSTAMP:20260425T000732
CREATED:20240605T233751Z
LAST-MODIFIED:20250808T160717Z
UID:2745-1753428600-1753434000@roxburynjchamber.org
SUMMARY:Sponsor Roxbury Chamber's Multi Chamber Event
DESCRIPTION:Multi Chamber Event Sponsor\nThe Roxbury Area Chamber of Commerce is pleased to offer our members the opportunity to sponsor our Multi-Chamber event. For $250\, the sponsor will have the company logo and brief company description highlighted in pre-event publicity. At the event\, the sponsor can have their own table to display their materials when space is available; can hand out marketing materials or leave it on the tables; will have the opportunity to address the attendees for 10 minutes; can bring a sign or banner to display\, and enjoy the meal with us. (non-members contact us if you’re interested) With thanks for the opportunity to promote your business\, and appreciate your support of the Chamber! \n\n\n                \n                        \n                            Multi Chamber Event Sponsor\n                             \n							"*" indicates required fields \n                        \n                        CompanyThis field is for validation purposes and should be left unchanged.Name*\n                            \n                            \n                                                    \n                                                    First\n                                                \n                            \n                            \n                                                    \n                                                    Last\n                                                \n                            \n                        Company*Email*\n                            \n                        Contact phone number\n                            \n                        Multi-Chamber Event Sponsorship FeeMulti-Chamber Event Sponsorship Fee Total (Choose Credit Card or PayPal/Debit Card)\n							\n						Choose Payment Method: Note - if you need a receipt\, you must login to PayPal even if not paying with PayPalPayPal CheckoutCredit Card\n                                    American ExpressMasterCardVisaSupported Credit Cards: American Express\, MasterCard\, Visa\n                                    \n                                    Card Number\n                                 \n                                            \n                                                \n                                                Expiration Date\n                                            \n                                                \n                                                 \n                                                Security Code\n                                             \n                                        \n                                            \n                                            Cardholder Name\n                                         CAPTCHA\n          \n            \n            \n            \n            \n            \n            \n            \n            \n            \n            \n            \n            \n            \n        \n                        \n                        \n\n\n  \n  \n  \n 
URL:https://roxburynjchamber.org/event/sponsor-multi-chamber-event/
LOCATION:NJ
CATEGORIES:Member Event,RACC Events
ATTACH;FMTTYPE=image/png:https://roxburynjchamber.org/wp-content/uploads/2024/06/Multi-Chamber-Event.png
ORGANIZER;CN="Roxbury Area Chamber of Commerce":MAILTO:info@roxburynjchamber.org
END:VEVENT
END:VCALENDAR