BEGIN:VCALENDAR
VERSION:2.0
PRODID:-//Roxbury Area Chamber of Commerce - ECPv6.15.20//NONSGML v1.0//EN
CALSCALE:GREGORIAN
METHOD:PUBLISH
X-WR-CALNAME:Roxbury Area Chamber of Commerce
X-ORIGINAL-URL:https://roxburynjchamber.org
X-WR-CALDESC:Events for Roxbury Area Chamber of Commerce
REFRESH-INTERVAL;VALUE=DURATION:PT1H
X-Robots-Tag:noindex
X-PUBLISHED-TTL:PT1H
BEGIN:VTIMEZONE
TZID:America/New_York
BEGIN:DAYLIGHT
TZOFFSETFROM:-0500
TZOFFSETTO:-0400
TZNAME:EDT
DTSTART:20250309T070000
END:DAYLIGHT
BEGIN:STANDARD
TZOFFSETFROM:-0400
TZOFFSETTO:-0500
TZNAME:EST
DTSTART:20251102T060000
END:STANDARD
BEGIN:DAYLIGHT
TZOFFSETFROM:-0500
TZOFFSETTO:-0400
TZNAME:EDT
DTSTART:20260308T070000
END:DAYLIGHT
BEGIN:STANDARD
TZOFFSETFROM:-0400
TZOFFSETTO:-0500
TZNAME:EST
DTSTART:20261101T060000
END:STANDARD
BEGIN:DAYLIGHT
TZOFFSETFROM:-0500
TZOFFSETTO:-0400
TZNAME:EDT
DTSTART:20270314T070000
END:DAYLIGHT
BEGIN:STANDARD
TZOFFSETFROM:-0400
TZOFFSETTO:-0500
TZNAME:EST
DTSTART:20271107T060000
END:STANDARD
END:VTIMEZONE
BEGIN:VEVENT
DTSTART;TZID=America/New_York:20260415T120000
DTEND;TZID=America/New_York:20260415T133000
DTSTAMP:20260424T115350
CREATED:20260220T172452Z
LAST-MODIFIED:20260224T203444Z
UID:3764-1776254400-1776259800@roxburynjchamber.org
SUMMARY:Build Your First AI Assistant: Using AI as a Business Thought Partner (click for more)
DESCRIPTION:Build Your First AI Assistant: Using AI as a Business Thought Partner\n  \nJoin us on Wednesday April 15th at NOON at Outback Steakhouse \nDoors Open for Networking at 11:30 \n\nIn this interactive 20-minute session\, attendees will learn how to use AI as a practical business thought partner—not automation or replacement for people. We’ll clarify the difference between AI and automation\, then walk through a simple\, hands-on exercise where participants build their first AI assistant using a guided prompt. Everyone will leave with a clear framework for using AI to think more clearly\, get unstuck\, and identify their next best actions—no technical experience required.   \nPrerequisites:  No technical experience required. Participants should bring a smartphone\, tablet\, or laptop with internet access and a free ChatGPT account (or be willing to create one). Those without a device can still participate by following along and applying the framework after the session. \nAbout our Speaker: Juana Magan is a business leader\, speaker\, and Chief eXperience Officer at Network Brainiacs\, an award- winning IT and cybersecurity company serving businesses across New Jersey and New York. Before transitioning into technology leadership\, Juana spent nearly two decades as a speech pathologist\, helping people find their voice\, confidence\, and clarity—skills that now shape her human-centered approach to AI and innovation. She is an Amazon best-selling author and contributing expert to Maximizing Business Potential with AI\, a collaborative work released in November 2025 alongside industry leaders and experts. Passionate about personal growth and helping others succeed\, Juana helps business owners and executives understand how to use AI as a practical\, approachable tool—not a buzzword—to improve efficiency\, communication\, and decision-making. Her talks are engaging\, empowering\, and grounded in real-world application. \n \nAll area business owners and representatives are welcome.  \nMore attendees brings better networking and more future referrals! \nMembers & representatives $30  New non-members are welcome too $35     \nPlease RSVP by 4/14 \nBring your business cards and marketing materials to share \n\n\n                \n                        \n                            Luncheon Payments\n                             \n							"*" indicates required fields \n                        \n                        NameThis field is for validation purposes and should be left unchanged.Name*\n                            \n                            \n                                                    \n                                                    First\n                                                \n                            \n                            \n                                                    \n                                                    Last\n                                                \n                            \n                        Company*Email*\n                            \n                        I am a:*\n			\n					\n					RACC Member\n			\n			\n					\n					Non-Member or Guest\n			Select luncheon tickets below.Member TicketsEnter the number of "member" tickets you'd like to purchase.Meeting Month (Member)April LuncheonMarch LuncheonApril Speed NetworkingMay LuncheonJune  Multi-Chamber LuncheonSeptember LuncheonOctober LuncheonOctober Multi ChamberNovember LuncheonDecember Holiday & Award LuncheonPlease select the Month of the meeting you are registering for. * = Multi-chamber event.Non-Member Tickets:Enter the number of "non-member" tickets you'd like to purchase.Meeting Month (Non-Member)April LuncheonMarch LuncheonApril LuncheonMay LuncheonJune Multi-Chamber LuncheonSeptember LuncheonOctober LuncheonOctober Multi ChamberNovember LuncheonDecember Holiday & Award LuncheonPlease select the Month of the meeting you are registering for. * = Multi-chamber event.Tell my Friend\n								\n								Please tell my friend I am attending.\n							Friend's Email Address*\n                            \n                        Notes & NamesPlease list the names of the additional members\, colleagues and/or guests that you are submitting this payment for here.[time-restrict on="2019-05-16" off="2019-06-18"]\n\n	\n	Use coupon code EARLYBIRD619 to save $10 off of your luncheon registration. \n\n[/time-restrict]Scholarship Donation\n					\n				In addition to your luncheon payment; enter an amount you'd like to contribute.CouponEnter a discount code if you have one\, then click apply.Total (Choose Credit Card or PayPal/Debit Card)\n							\n						Choose Payment Method: Note - if you need a receipt\, you must login to PayPal even if not paying with PayPalPayPal CheckoutCredit Card\n                                    American ExpressMasterCardVisaSupported Credit Cards: American Express\, MasterCard\, Visa\n                                    \n                                    Card Number\n                                 \n                                            \n                                                \n                                                Expiration Date\n                                            \n                                                \n                                                 \n                                                Security Code\n                                             \n                                        \n                                            \n                                            Cardholder Name\n                                         CAPTCHA\n          \n            \n            \n            \n            \n            \n            \n            \n            \n            \n            \n            \n            \n            \n        \n                        \n                        \n\n  \nOUR MEETING SPONSOR IS LINDA SMITH & CINDY GRAHAM\, REMAX\n\nAs real estate professionals\, we combine trusted advice\, in-depth market knowledge\, and a clear understanding of local trends to guide our clients every step of the way. By using today’s most effective technology and marketing tools we make the buying or selling process strategic and stress-free. As longtime Roxbury residents\, this community isn’t just where we work—it’s home. We’re proud to serve our community and surrounding areas\, helping those navigate their next move with confidence\, clarity\, and peace of mind. \n\n\n  \n  \nInformation for our events will be available on our website https://roxburynjchamber.org and will be updated as more information is available. We have a nice mix of luncheons\, evening and morning events to include everyone that can’t make our luncheons. We hope to see you soon! \n\n\nParticipation in Chamber events will help increase your referrals and overall business.  \n 
URL:https://roxburynjchamber.org/event/lunch-n-learn/
LOCATION:Outback Steakhouse\, 1070 US 46 West\, Ledgewood\, NJ\, 07852
CATEGORIES:Luncheon Meetings,RACC Events
ATTACH;FMTTYPE=image/jpeg:https://roxburynjchamber.org/wp-content/uploads/2026/02/Build-AI-Assistant-pic-3.jpg
ORGANIZER;CN="Roxbury Area Chamber of Commerce":MAILTO:info@roxburynjchamber.org
END:VEVENT
END:VCALENDAR