BEGIN:VCALENDAR
VERSION:2.0
PRODID:-//Roxbury Area Chamber of Commerce - ECPv6.15.20//NONSGML v1.0//EN
CALSCALE:GREGORIAN
METHOD:PUBLISH
X-ORIGINAL-URL:https://roxburynjchamber.org
X-WR-CALDESC:Events for Roxbury Area Chamber of Commerce
REFRESH-INTERVAL;VALUE=DURATION:PT1H
X-Robots-Tag:noindex
X-PUBLISHED-TTL:PT1H
BEGIN:VTIMEZONE
TZID:America/New_York
BEGIN:DAYLIGHT
TZOFFSETFROM:-0500
TZOFFSETTO:-0400
TZNAME:EDT
DTSTART:20240310T070000
END:DAYLIGHT
BEGIN:STANDARD
TZOFFSETFROM:-0400
TZOFFSETTO:-0500
TZNAME:EST
DTSTART:20241103T060000
END:STANDARD
BEGIN:DAYLIGHT
TZOFFSETFROM:-0500
TZOFFSETTO:-0400
TZNAME:EDT
DTSTART:20250309T070000
END:DAYLIGHT
BEGIN:STANDARD
TZOFFSETFROM:-0400
TZOFFSETTO:-0500
TZNAME:EST
DTSTART:20251102T060000
END:STANDARD
BEGIN:DAYLIGHT
TZOFFSETFROM:-0500
TZOFFSETTO:-0400
TZNAME:EDT
DTSTART:20260308T070000
END:DAYLIGHT
BEGIN:STANDARD
TZOFFSETFROM:-0400
TZOFFSETTO:-0500
TZNAME:EST
DTSTART:20261101T060000
END:STANDARD
END:VTIMEZONE
BEGIN:VEVENT
DTSTART;TZID=America/New_York:20250429T180000
DTEND;TZID=America/New_York:20250429T200000
DTSTAMP:20260424T152040
CREATED:20250324T191330Z
LAST-MODIFIED:20250424T155540Z
UID:3388-1745949600-1745956800@roxburynjchamber.org
SUMMARY:Speed Networking with Women in Business
DESCRIPTION:Join Women in Business for Speed Networking \nTuesday April 29\, 2025     6:00 – 8:00 pm\n\nCONNECTIONS\nMEANINGFUL CONVERSATIONS\nPOWERFUL OPPORTUNITIES\nONE DYNAMIC EVENING!\n\nLocation: Roxbury Recreation Building – Senior Center Entrance\n72 Eyland Ave\, Succasunna 07876 \n$10 per person; includes the event\, coffee and cookies \n\nJoin us for an empowering gathering as we celebrate female entrepreneurship and leadership.\n  \n \nThis is a great opportunity to connect with local women in business!\n  \n\n\n                \n                        \n                            Women in Business\n                             \n							"*" indicates required fields \n                        \n                        URLThis field is for validation purposes and should be left unchanged.Name*\n                            \n                            \n                                                    \n                                                    First\n                                                \n                            \n                            \n                                                    \n                                                    Last\n                                                \n                            \n                        Company*Email*\n                            \n                        I am a:*\n			\n					\n					RACC Member\n			\n			\n					\n					Non-Member or Guest\n			Select luncheon tickets below.Member TicketsEnter the number of "member" tickets you'd like to purchase.Meeting Month (Member)January MorningJanuary LuncheonFebruary LuncheonMarch LuncheonApril Speed NetworkingWIB Speed NetworkingMay LuncheonJune  Multi-Chamber LuncheonSeptember LuncheonOctober LuncheonOctober Multi ChamberNovember LuncheonDecember Holiday & Award LuncheonPlease select the Month of the meeting you are registering for. * = Multi-chamber event.Non-Member Tickets:Enter the number of "non-member" tickets you'd like to purchase.Meeting Month (Non-Member)January MorningJanuary LuncheonFebruary LuncheonMarch LuncheonMay LuncheonWIB Speed NetworkingJune Multi-Chamber LuncheonSeptember LuncheonOctober LuncheonOctober Multi ChamberNovember LuncheonDecember Holiday & Award LuncheonPlease select the Month of the meeting you are registering for. * = Multi-chamber event.Tell my Friend\n								\n								Please tell my friend I am attending.\n							Friend's Email Address*\n                            \n                        Notes & NamesPlease list the names of the additional members\, colleagues and/or guests that you are submitting this payment for here.[time-restrict on="2019-05-16" off="2019-06-18"]\n\n	\n	Use coupon code EARLYBIRD619 to save $10 off of your luncheon registration. \n\n[/time-restrict]Scholarship Donation\n					\n				In addition to your luncheon payment; enter an amount you'd like to contribute.CouponEnter a discount code if you have one\, then click apply.Total (Choose Credit Card or PayPal/Debit Card)\n							\n						Choose Payment Method: Note - if you need a receipt\, you must login to PayPal even if not paying with PayPalPayPal CheckoutCredit Card\n                                    American ExpressMasterCardVisaSupported Credit Cards: American Express\, MasterCard\, Visa\n                                    \n                                    Card Number\n                                 \n                                            \n                                                \n                                                Expiration Date\n                                            \n                                                \n                                                 \n                                                Security Code\n                                             \n                                        \n                                            \n                                            Cardholder Name\n                                         CAPTCHA\n          \n            \n            \n            \n            \n            \n            \n            \n            \n            \n            \n            \n            \n            \n        \n                        \n                        \n\n 
URL:https://roxburynjchamber.org/event/wib_4-29-25/
LOCATION:Roxbury Senior Center\, 72 Eyland Avenue\, Succasunna\, NJ\, 07876\, United States
CATEGORIES:RACC Events,Women in Business
ATTACH;FMTTYPE=image/jpeg:https://roxburynjchamber.org/wp-content/uploads/2024/09/Women-in-Business-Photo.jpg
ORGANIZER;CN="Roxbury Area Chamber of Commerce":MAILTO:info@roxburynjchamber.org
END:VEVENT
BEGIN:VEVENT
DTSTART;TZID=America/New_York:20250122T180000
DTEND;TZID=America/New_York:20250122T200000
DTSTAMP:20260424T152040
CREATED:20240905T004752Z
LAST-MODIFIED:20250324T191123Z
UID:3088-1737568800-1737576000@roxburynjchamber.org
SUMMARY:Roxbury Women in Business Evening Event: Social Media Success
DESCRIPTION:Achieve Social Media Success in 2025\nWednesday January 22\, 2025     6:00 – 8:00 pm\nSnow Date: Thursday January 23\, 2025 6:00-8:00 pm \n\nLocation: Roxbury Public Library –\nLarge Meeting Room\, 103 Main Street\, Succasunna  \n\nJoin us for an empowering gathering as we celebrate female entrepreneurship and leadership.\n\nResolve for 2025 what you can incorporate into your social media plan to propel your business forward.\n  \nHere are 5 trends predicted for 2025 \n\nContent getting more creative and entertaining\nShort form video 15 seconds to max of 30 domination\nMore use of generative AI for content\nInstagram will be the priority platform\nEmotion driven content for deeper connection\n\n  \n \n\n  \nThis is a great opportunity to connect with local women in business.\nCapacity: 40 people – don’t delay in signing up!\n  \n\n                \n                        \n                             \n							"*" indicates required fields \n                        \n                        PhoneThis field is for validation purposes and should be left unchanged.Name*\n                            \n                            \n                                                    \n                                                    First\n                                                \n                            \n                            \n                                                    \n                                                    Last\n                                                \n                            \n                        Company*Email*\n                            \n                        Event/Month*Evening NetworkingReserve Your Spot(s) Quantity\n					\n					\n						Price:\n						$30.00\n					\n					\n					 Quantity \n				Tell my friend\n								\n								Please tell my friend I am attending this event.\n							Friend's Email Address*\n                            \n                        PaymentScholarship Donation\n					\n				In addition to your payment; enter an amount you'd like to contribute.Total (Choose Credit Card or PayPal/Debit Card)\n							\n						Choose Payment Method: Note - if you need a receipt\, you must login to PayPal even if not paying with PayPalPayPal CheckoutCredit Card\n                                    American ExpressMasterCardVisaSupported Credit Cards: American Express\, MasterCard\, Visa\n                                    \n                                    Card Number\n                                 \n                                            \n                                                \n                                                Expiration Date\n                                            \n                                                \n                                                 \n                                                Security Code\n                                             \n                                        \n                                            \n                                            Cardholder Name\n                                         CAPTCHA
URL:https://roxburynjchamber.org/event/roxbury-women-in-business-0125/
LOCATION:Roxbury Public Library\, 103 Main Street\, Succasunna\, NJ\, 07876
CATEGORIES:RACC Events,Women in Business
ATTACH;FMTTYPE=image/jpeg:https://roxburynjchamber.org/wp-content/uploads/2024/09/Women-in-Business-Photo.jpg
ORGANIZER;CN="Roxbury Area Chamber of Commerce":MAILTO:info@roxburynjchamber.org
END:VEVENT
END:VCALENDAR