BEGIN:VCALENDAR
VERSION:2.0
PRODID:-//Roxbury Area Chamber of Commerce - ECPv6.15.20//NONSGML v1.0//EN
CALSCALE:GREGORIAN
METHOD:PUBLISH
X-WR-CALNAME:Roxbury Area Chamber of Commerce
X-ORIGINAL-URL:https://roxburynjchamber.org
X-WR-CALDESC:Events for Roxbury Area Chamber of Commerce
REFRESH-INTERVAL;VALUE=DURATION:PT1H
X-Robots-Tag:noindex
X-PUBLISHED-TTL:PT1H
BEGIN:VTIMEZONE
TZID:America/New_York
BEGIN:DAYLIGHT
TZOFFSETFROM:-0500
TZOFFSETTO:-0400
TZNAME:EDT
DTSTART:20250309T070000
END:DAYLIGHT
BEGIN:STANDARD
TZOFFSETFROM:-0400
TZOFFSETTO:-0500
TZNAME:EST
DTSTART:20251102T060000
END:STANDARD
BEGIN:DAYLIGHT
TZOFFSETFROM:-0500
TZOFFSETTO:-0400
TZNAME:EDT
DTSTART:20260308T070000
END:DAYLIGHT
BEGIN:STANDARD
TZOFFSETFROM:-0400
TZOFFSETTO:-0500
TZNAME:EST
DTSTART:20261101T060000
END:STANDARD
BEGIN:DAYLIGHT
TZOFFSETFROM:-0500
TZOFFSETTO:-0400
TZNAME:EDT
DTSTART:20270314T070000
END:DAYLIGHT
BEGIN:STANDARD
TZOFFSETFROM:-0400
TZOFFSETTO:-0500
TZNAME:EST
DTSTART:20271107T060000
END:STANDARD
BEGIN:DAYLIGHT
TZOFFSETFROM:-0500
TZOFFSETTO:-0400
TZNAME:EDT
DTSTART:20280312T070000
END:DAYLIGHT
BEGIN:STANDARD
TZOFFSETFROM:-0400
TZOFFSETTO:-0500
TZNAME:EST
DTSTART:20281105T060000
END:STANDARD
END:VTIMEZONE
BEGIN:VEVENT
DTSTART;VALUE=DATE:20260519
DTEND;VALUE=DATE:20270319
DTSTAMP:20260424T200546
CREATED:20240604T183156Z
LAST-MODIFIED:20260424T160156Z
UID:2364-1779148800-1805414399@roxburynjchamber.org
SUMMARY:Sponsor Board Advertising Opportunity for 2026 Events
DESCRIPTION:Roxbury Chamber Members: Advertise with us on our Sponsor Board to be displayed at all of our 2026 events\n\n\n\nHello Chamber Members! \nWould you like to support the Roxbury Area Chamber of Commerce?\nWould you like to grow your business?\n  \nHere’s how!\n$150.00 Donation for your logo to appear on our sponsor board that we will display at all of our 2026 events. The sponsor boards will be  2′ x 3′ and have 6 spaces on each one. Spaces are 11″ x 8.5″! \nRESERVE YOUR SPACE TODAY!\nTo be advertised at all of our 2026 events\, including our Taste of Roxbury event\, sign up today  \nEmail your artwork to: PamSmith@RoxburyNJChamber.org     Please keep your artwork simple with a logo and minimal information. \nQuestions? Call 973-770-0740 \n\n \n        \n\nPay Online: \n\n\n                \n                        \n                            Sponsor Board Space Payment\n                             \n							"*" indicates required fields \n                        \n                        Your Name*\n                            \n                            \n                                                    \n                                                    First\n                                                \n                            \n                            \n                                                    \n                                                    Last\n                                                \n                            \n                        Company Name*Address*    \n                    \n                         \n                                        \n                                        Street Address\n                                    \n                                    \n                                    City\n                                 \n                                        AlabamaAlaskaAmerican SamoaArizonaArkansasCaliforniaColoradoConnecticutDelawareDistrict of ColumbiaFloridaGeorgiaGuamHawaiiIdahoIllinoisIndianaIowaKansasKentuckyLouisianaMaineMarylandMassachusettsMichiganMinnesotaMississippiMissouriMontanaNebraskaNevadaNew HampshireNew JerseyNew MexicoNew YorkNorth CarolinaNorth DakotaNorthern Mariana IslandsOhioOklahomaOregonPennsylvaniaPuerto RicoRhode IslandSouth CarolinaSouth DakotaTennesseeTexasUtahU.S. Virgin IslandsVermontVirginiaWashingtonWest VirginiaWisconsinWyomingArmed Forces AmericasArmed Forces EuropeArmed Forces Pacific\n                                        State\n                                      \n                                    \n                                    ZIP Code\n                                \n                    \n                PhoneEmail*\n                            \n                        One Advertising Space*\n					\n					\n						Price:\n						\n					\n					\n				Total (Choose Credit Card or PayPal/Debit Card)\n							\n						Choose Payment Method: Note - if you need a receipt\, you must login to PayPal even if not paying with PayPalPayPal CheckoutCredit Card\n                                    American ExpressMasterCardVisaSupported Credit Cards: American Express\, MasterCard\, Visa\n                                    \n                                    Card Number\n                                 \n                                            \n                                                \n                                                Expiration Date\n                                            \n                                                \n                                                 \n                                                Security Code\n                                             \n                                        \n                                            \n                                            Cardholder Name\n                                         CAPTCHA\n          \n            \n            \n            \n            \n            \n            \n            \n            \n            \n            \n            \n            \n            \n        \n                        \n                        \n\n  \nOR \nMake checks payable to Roxbury Chamber and mail to:  \nP.O. Box 436\, Ledgewood\, NJ 07852 \n 
URL:https://roxburynjchamber.org/event/sponsor-board/
CATEGORIES:Member Event,RACC Events
ATTACH;FMTTYPE=image/png:https://roxburynjchamber.org/wp-content/uploads/2024/03/cropped-RACC-logo-nobackground.png
ORGANIZER;CN="Roxbury Area Chamber of Commerce":MAILTO:info@roxburynjchamber.org
END:VEVENT
BEGIN:VEVENT
DTSTART;TZID=America/New_York:20260926T090000
DTEND;TZID=America/New_York:20260926T150000
DTSTAMP:20260424T200547
CREATED:20240610T120921Z
LAST-MODIFIED:20260422T143831Z
UID:2768-1790413200-1790434800@roxburynjchamber.org
SUMMARY:13th Annual Community Yard & Craft Sale - Rain or Shine
DESCRIPTION:Shop or Sell!\nThis rain or shine event will run from 9 a.m. through 3 p.m. and provide one-stop shopping right at the Horseshoe Lake pavilion area (far left rear of the park). The sale will feature: \n\nHome Goods\nAntiques\nCrafts\nGarage Sale Items\nCollectibles\nMuch More!\nFood Trucks – we’re expecting a coffee truck and a food truck\nRestrooms on site for the convenience and comfort of our shoppers and sellers\nConvenient Parking in the huge lot (you may want to bring a wagon to haul your purchases!)\n\nSELLERS WANTED\nHave something to sell? We are pleased to offer you the ability to register online. Simply follow the “Register” button below to use PayPal’s secure server payment processing—a PayPal account is not required or necessary to process the payment. Registration deadline is Thursday\, September 24th. \n\nEVENT NOTES\nThis event may sell out—there are a limited number of spots available! Registrations will be accepted for up to 4 spots around the field area. We will not accept registrations for sales at your home (e.g. a traditional garage sale will not be accepted – that Town-Wide sale is in June). \nFood vendors will be by invitation only and will be set up in the area surrounding the yard-sale vendors. \nRegistration is NOT limited to Roxbury residents; we welcome anyone with something interesting to sell to register—the more the merrier! \nThe event will take place in the area adjacent to the pavilion at Horseshoe Lake. Set up begins at 7 a.m. and must be complete by 8:45 a.m. with your car moved to the vendor’s parking area. Clean-up must be complete by 4 p.m.—your area must be clear\, and you take your leftovers home with you. Be prepared to be in the open\, you are encouraged to bring a canopy-type tent if you have one\, and please secure it well so it doesn’t blow over in the wind. You will need to provide your own table(s)\, hand truck\, chairs\, etc. You CAN pull up to your spot to unload\, then you’ll move your car to the edge of the field. \n  \nSeller Information \n  \nRegistrations will open in August  \n  \n \n 
URL:https://roxburynjchamber.org/event/community-yard-sale/
LOCATION:Horseshoe Lake\, 72 Eyland Avenue\, Succasunna\, NJ\, 07876\, United States
CATEGORIES:Community Events,RACC Events
ATTACH;FMTTYPE=image/png:https://roxburynjchamber.org/wp-content/uploads/2024/06/yard-sale.png
ORGANIZER;CN="Roxbury Area Chamber of Commerce":MAILTO:info@roxburynjchamber.org
END:VEVENT
END:VCALENDAR