BEGIN:VCALENDAR
VERSION:2.0
PRODID:-//Roxbury Area Chamber of Commerce - ECPv6.15.20//NONSGML v1.0//EN
CALSCALE:GREGORIAN
METHOD:PUBLISH
X-WR-CALNAME:Roxbury Area Chamber of Commerce
X-ORIGINAL-URL:https://roxburynjchamber.org
X-WR-CALDESC:Events for Roxbury Area Chamber of Commerce
REFRESH-INTERVAL;VALUE=DURATION:PT1H
X-Robots-Tag:noindex
X-PUBLISHED-TTL:PT1H
BEGIN:VTIMEZONE
TZID:America/New_York
BEGIN:DAYLIGHT
TZOFFSETFROM:-0500
TZOFFSETTO:-0400
TZNAME:EDT
DTSTART:20240310T070000
END:DAYLIGHT
BEGIN:STANDARD
TZOFFSETFROM:-0400
TZOFFSETTO:-0500
TZNAME:EST
DTSTART:20241103T060000
END:STANDARD
BEGIN:DAYLIGHT
TZOFFSETFROM:-0500
TZOFFSETTO:-0400
TZNAME:EDT
DTSTART:20250309T070000
END:DAYLIGHT
BEGIN:STANDARD
TZOFFSETFROM:-0400
TZOFFSETTO:-0500
TZNAME:EST
DTSTART:20251102T060000
END:STANDARD
BEGIN:DAYLIGHT
TZOFFSETFROM:-0500
TZOFFSETTO:-0400
TZNAME:EDT
DTSTART:20260308T070000
END:DAYLIGHT
BEGIN:STANDARD
TZOFFSETFROM:-0400
TZOFFSETTO:-0500
TZNAME:EST
DTSTART:20261101T060000
END:STANDARD
END:VTIMEZONE
BEGIN:VEVENT
DTSTART;TZID=America/New_York:20251113T163000
DTEND;TZID=America/New_York:20251113T180000
DTSTAMP:20260424T183330
CREATED:20240605T232527Z
LAST-MODIFIED:20251027T161353Z
UID:2742-1763051400-1763056800@roxburynjchamber.org
SUMMARY:Roxbury Chamber Networking Happy Hour with Drinks and Food
DESCRIPTION:Networking Happy Hour\n Drinks & Food with the Roxbury Area Chamber of Commerce & Other Area Businesses\n  \nNovember 13th 4:30 pm – 6:00 pm \nJoin us in the Tavern at Mt. Arlington Senior Living for networking\, food\, beer\, wine\, and soft drinks. Meet other area business representatives as we enjoy the hospitality of our friends at Mt. Arlington Senior Living. Mini tours optional. \nAll area business owners and representatives are welcome. More attendees brings better networking and more future referrals. \n$20 Per Person     Please RSVP by 11/11 \nBring your business cards and marketing materials to share. \n \n\n\n                \n                        \n                            Networking Event RSVP w/Fee\n                             \n							"*" indicates required fields \n                        \n                        URLThis field is for validation purposes and should be left unchanged.Name*\n                            \n                            \n                                                    \n                                                    First\n                                                \n                            \n                            \n                                                    \n                                                    Last\n                                                \n                            \n                        Company*Email*\n                            \n                        Event/Month*Evening NetworkingReserve Your Spot(s) Quantity\n					\n					\n						Price:\n						$30.00\n					\n					\n					 Quantity \n				Tell my friend\n								\n								Please tell my friend I am attending this event.\n							Friend's Email Address*\n                            \n                        PaymentScholarship Donation\n					\n				In addition to your payment; enter an amount you'd like to contribute.Total (Choose Credit Card or PayPal/Debit Card)\n							\n						Choose Payment Method: Note - if you need a receipt\, you must login to PayPal even if not paying with PayPalPayPal CheckoutCredit Card\n                                    American ExpressMasterCardVisaSupported Credit Cards: American Express\, MasterCard\, Visa\n                                    \n                                    Card Number\n                                 \n                                            \n                                                \n                                                Expiration Date\n                                            \n                                                \n                                                 \n                                                Security Code\n                                             \n                                        \n                                            \n                                            Cardholder Name\n                                         CAPTCHA\n          \n            \n            \n            \n            \n            \n            \n            \n            \n            \n            \n            \n            \n            \n        \n                        \n                        \n\nInformation for our events will be available on our website https://roxburynjchamber.org and will be updated as more information is available. We have a nice mix of luncheons\, evening\, and morning events as convenient choices for everyone. We hope to see you soon! \n  \nParticipation in Chamber events will help increase your referrals and overall business!
URL:https://roxburynjchamber.org/event/11-2025/
LOCATION:Mt. Arlington Senior Living\, 2 Hillside Drive\, Mt. Arlington\, NJ\, 07856\, United States
CATEGORIES:Happy Hour Event,Member Event,RACC Events
ATTACH;FMTTYPE=image/jpeg:https://roxburynjchamber.org/wp-content/uploads/2024/06/happy-hour-networking.jpg
ORGANIZER;CN="Roxbury Area Chamber of Commerce":MAILTO:info@roxburynjchamber.org
END:VEVENT
END:VCALENDAR