BEGIN:VCALENDAR
VERSION:2.0
PRODID:-//Roxbury Area Chamber of Commerce - ECPv6.15.20//NONSGML v1.0//EN
CALSCALE:GREGORIAN
METHOD:PUBLISH
X-WR-CALNAME:Roxbury Area Chamber of Commerce
X-ORIGINAL-URL:https://roxburynjchamber.org
X-WR-CALDESC:Events for Roxbury Area Chamber of Commerce
REFRESH-INTERVAL;VALUE=DURATION:PT1H
X-Robots-Tag:noindex
X-PUBLISHED-TTL:PT1H
BEGIN:VTIMEZONE
TZID:America/New_York
BEGIN:DAYLIGHT
TZOFFSETFROM:-0500
TZOFFSETTO:-0400
TZNAME:EDT
DTSTART:20240310T070000
END:DAYLIGHT
BEGIN:STANDARD
TZOFFSETFROM:-0400
TZOFFSETTO:-0500
TZNAME:EST
DTSTART:20241103T060000
END:STANDARD
BEGIN:DAYLIGHT
TZOFFSETFROM:-0500
TZOFFSETTO:-0400
TZNAME:EDT
DTSTART:20250309T070000
END:DAYLIGHT
BEGIN:STANDARD
TZOFFSETFROM:-0400
TZOFFSETTO:-0500
TZNAME:EST
DTSTART:20251102T060000
END:STANDARD
BEGIN:DAYLIGHT
TZOFFSETFROM:-0500
TZOFFSETTO:-0400
TZNAME:EDT
DTSTART:20260308T070000
END:DAYLIGHT
BEGIN:STANDARD
TZOFFSETFROM:-0400
TZOFFSETTO:-0500
TZNAME:EST
DTSTART:20261101T060000
END:STANDARD
END:VTIMEZONE
BEGIN:VEVENT
DTSTART;TZID=America/New_York:20251203T090000
DTEND;TZID=America/New_York:20251203T120000
DTSTAMP:20260424T170628
CREATED:20240910T184032Z
LAST-MODIFIED:20251104T191529Z
UID:3145-1764752400-1764763200@roxburynjchamber.org
SUMMARY:Santa Land Goody Bag Donations
DESCRIPTION:Seeking items for Santa Land goody bags\nGoody bags are handed out to each child that comes to visit Santa during our Santa Land event at Home for the Holidays. We hand out over 250 bags!\n\nWe’ll accept kid friendly items in any quantity\nMembers: You can take advantage of the opportunity to highlight your business through branding your items for the bags. You can donate items with your printed logo; a sticker attached highlighting your business logo or info; or attach your business card. \nNon-members: We appreciate your donation too\, just without any business label. We reserve the advertising for our members. \nThe kids and their parents always appreciate the goody bags! \nContact us at info@roxburynjchamber.org \n  \nDonation Ideas:\ncandy\, temporary tattoos\, “Snowman Soup” (packages with hot cocoa\, marshmallows\, mini candy canes and chocolates)\, pencils\, pens\, 1st Aid kits\, candy canes\, mini candy canes\, chocolate\, bracelets\, key chains\, magnetic clips\, cups\, reindeer food\, puzzle slide boards\, frisbees\, tissue packets\, paint\, painting sheets\, bandage dispensers\, stickers\, bendables\, sticky snowflakes\, prisms\, finger puppets\, holiday character sticker sheets\, mini Play-Doh\, foldable Frisbees\, beach balls\, toothbrushes\, matchbox cars\, maze ball puzzles\, mini pinball\, tic tac toe\, gliders\, finger puppets\, rubber ducks\, stickers\, mints\, kaleidoscopes\, snacks\, cookies\, tooth timers\, slap bracelets\, rings\, anything light up\, you get the idea! Cash is also accepted and we will purchase more items. \nSamples of some items donated in the past: \n    \n 
URL:https://roxburynjchamber.org/event/santa-land-donations/
ATTACH;FMTTYPE=image/jpeg:https://roxburynjchamber.org/wp-content/uploads/2024/09/Santa-Land-2023_Chamber.jpg
END:VEVENT
BEGIN:VEVENT
DTSTART;TZID=America/New_York:20251206T110000
DTEND;TZID=America/New_York:20251206T150000
DTSTAMP:20260424T170628
CREATED:20240611T142031Z
LAST-MODIFIED:20251119T144631Z
UID:2807-1765018800-1765033200@roxburynjchamber.org
SUMMARY:Santa Land: Pictures with Santa!
DESCRIPTION:Santa Land: Pictures with Santa!\nSanta will arrive at the library by fire truck at 11:05 a.m.\, then pose with you and your little ones for a perfect holiday picture. Sponsored by the Roxbury Area Chamber of Commerce and the Roxbury Public Library. There is a suggested minimum donation of $5.00 for a printed picture with Santa; all proceeds go to the Roxbury Social Services Department. \nHo Ho Ho!\nHelp us make Santa Land a little more organized and a little less crowded this year! \nRegistration information: https://calendly.com/roxbury/santa-land \nReservations are strongly requested and priority will be given to those who register in advance. Walk-ins are welcome\, starting at 12:30pm. Also enjoy doing crafts and watching the entertainment in the library! \n \n  \n\n\nPart of the Roxbury Home for the Holidays Event on Main Street   https://www.roxburynj.us/494/2025-Home-for-the-Holidays
URL:https://roxburynjchamber.org/event/santa-land/
LOCATION:Roxbury Public Library\, 103 Main Street\, Succasunna\, NJ\, 07876
CATEGORIES:Community Events,RACC Events
ATTACH;FMTTYPE=image/jpeg:https://roxburynjchamber.org/wp-content/uploads/2024/06/2025-flyer.jpg
ORGANIZER;CN="Roxbury Area Chamber of Commerce":MAILTO:info@roxburynjchamber.org
END:VEVENT
BEGIN:VEVENT
DTSTART;TZID=America/New_York:20251217T120000
DTEND;TZID=America/New_York:20251217T133000
DTSTAMP:20260424T170628
CREATED:20240611T141142Z
LAST-MODIFIED:20251104T195619Z
UID:2802-1765972800-1765978200@roxburynjchamber.org
SUMMARY:Roxbury Chamber Holiday & Awards Luncheon
DESCRIPTION:Roxbury Chamber’s Holiday Award Luncheon\nHappy Holidays! We have a lot to celebrate and we hope you’ll join us! \nSign in and networking begins at 11:30.  Event begins at 12:00. \nWe have a lot planned:\n– Business Person of the Year Award\n– Networking & Strengthening our Relationships for better referrals\n– Raffles\n– Celebrating our connections with each other \nAwards! Help us congratulate the recipient and hear more about their award\nBusiness Person of the Year – James Storms of Castle Printing \nRaffles! We always have fun with the raffles! \nThere will also be extra time for networking and socializing. \nPlease consider bringing a door prize\, gift basket\, bottle of something\, or gift card to be raffled off or contact us for pick up before the luncheon. \nAll area business owners and representatives are welcome. More attendees brings better networking and more future referrals. \nLocation: Asian Diner \nMembers $30  Non-Members are welcome too! $35     Please RSVP by 12/16. \nBring your business cards and marketing materials to share. \n\n\n\n                \n                        \n                            Luncheon Payments\n                             \n							"*" indicates required fields \n                        \n                        EmailThis field is for validation purposes and should be left unchanged.Name*\n                            \n                            \n                                                    \n                                                    First\n                                                \n                            \n                            \n                                                    \n                                                    Last\n                                                \n                            \n                        Company*Email*\n                            \n                        I am a:*\n			\n					\n					RACC Member\n			\n			\n					\n					Non-Member or Guest\n			Select luncheon tickets below.Member TicketsEnter the number of "member" tickets you'd like to purchase.Meeting Month (Member)April LuncheonMarch LuncheonApril Speed NetworkingMay LuncheonJune  Multi-Chamber LuncheonSeptember LuncheonOctober LuncheonOctober Multi ChamberNovember LuncheonDecember Holiday & Award LuncheonPlease select the Month of the meeting you are registering for. * = Multi-chamber event.Non-Member Tickets:Enter the number of "non-member" tickets you'd like to purchase.Meeting Month (Non-Member)April LuncheonMarch LuncheonApril LuncheonMay LuncheonJune Multi-Chamber LuncheonSeptember LuncheonOctober LuncheonOctober Multi ChamberNovember LuncheonDecember Holiday & Award LuncheonPlease select the Month of the meeting you are registering for. * = Multi-chamber event.Tell my Friend\n								\n								Please tell my friend I am attending.\n							Friend's Email Address*\n                            \n                        Notes & NamesPlease list the names of the additional members\, colleagues and/or guests that you are submitting this payment for here.[time-restrict on="2019-05-16" off="2019-06-18"]\n\n	\n	Use coupon code EARLYBIRD619 to save $10 off of your luncheon registration. \n\n[/time-restrict]Scholarship Donation\n					\n				In addition to your luncheon payment; enter an amount you'd like to contribute.CouponEnter a discount code if you have one\, then click apply.Total (Choose Credit Card or PayPal/Debit Card)\n							\n						Choose Payment Method: Note - if you need a receipt\, you must login to PayPal even if not paying with PayPalPayPal CheckoutCredit Card\n                                    American ExpressMasterCardVisaSupported Credit Cards: American Express\, MasterCard\, Visa\n                                    \n                                    Card Number\n                                 \n                                            \n                                                \n                                                Expiration Date\n                                            \n                                                \n                                                 \n                                                Security Code\n                                             \n                                        \n                                            \n                                            Cardholder Name\n                                         CAPTCHA\n          \n            \n            \n            \n            \n            \n            \n            \n            \n            \n            \n            \n            \n            \n        \n                        \n                        \n\n\n 
URL:https://roxburynjchamber.org/event/holiday-awards-luncheon/
LOCATION:Asian Diner\, 1691 Route 46 West\, Ledgewood\, NJ\, 07852
CATEGORIES:Luncheon Meetings,Member Event,RACC Events
ATTACH;FMTTYPE=image/png:https://roxburynjchamber.org/wp-content/uploads/2024/06/December-Luncheon.png
ORGANIZER;CN="Roxbury Area Chamber of Commerce":MAILTO:info@roxburynjchamber.org
END:VEVENT
END:VCALENDAR