BEGIN:VCALENDAR
VERSION:2.0
PRODID:-//Roxbury Area Chamber of Commerce - ECPv6.15.20//NONSGML v1.0//EN
CALSCALE:GREGORIAN
METHOD:PUBLISH
X-WR-CALNAME:Roxbury Area Chamber of Commerce
X-ORIGINAL-URL:https://roxburynjchamber.org
X-WR-CALDESC:Events for Roxbury Area Chamber of Commerce
REFRESH-INTERVAL;VALUE=DURATION:PT1H
X-Robots-Tag:noindex
X-PUBLISHED-TTL:PT1H
BEGIN:VTIMEZONE
TZID:America/New_York
BEGIN:DAYLIGHT
TZOFFSETFROM:-0500
TZOFFSETTO:-0400
TZNAME:EDT
DTSTART:20230312T070000
END:DAYLIGHT
BEGIN:STANDARD
TZOFFSETFROM:-0400
TZOFFSETTO:-0500
TZNAME:EST
DTSTART:20231105T060000
END:STANDARD
BEGIN:DAYLIGHT
TZOFFSETFROM:-0500
TZOFFSETTO:-0400
TZNAME:EDT
DTSTART:20240310T070000
END:DAYLIGHT
BEGIN:STANDARD
TZOFFSETFROM:-0400
TZOFFSETTO:-0500
TZNAME:EST
DTSTART:20241103T060000
END:STANDARD
BEGIN:DAYLIGHT
TZOFFSETFROM:-0500
TZOFFSETTO:-0400
TZNAME:EDT
DTSTART:20250309T070000
END:DAYLIGHT
BEGIN:STANDARD
TZOFFSETFROM:-0400
TZOFFSETTO:-0500
TZNAME:EST
DTSTART:20251102T060000
END:STANDARD
END:VTIMEZONE
BEGIN:VEVENT
DTSTART;TZID=America/New_York:20241016T180000
DTEND;TZID=America/New_York:20241016T210000
DTSTAMP:20260425T151123
CREATED:20240610T115007Z
LAST-MODIFIED:20241001T174320Z
UID:2763-1729101600-1729112400@roxburynjchamber.org
SUMMARY:Multi Chamber Event with Randolph Chamber - Wine & Beer Tasting
DESCRIPTION:  \nAll area business owners and representatives are welcome.  \nLocation: CCM\nBring your business cards and marketing materials to share\nDoor prizes are welcome!\n  \nSign up through RandolphChamber.org\n\n  \nInformation for our other events will be available on our website https://roxburynjchamber.org and will be updated as more information is available. 
URL:https://roxburynjchamber.org/event/randolph-multi/
CATEGORIES:Happy Hour Event,Member Event,RACC Events
ATTACH;FMTTYPE=image/png:https://roxburynjchamber.org/wp-content/uploads/2024/06/Multi-Chamber-Event.png
END:VEVENT
END:VCALENDAR