BEGIN:VCALENDAR
VERSION:2.0
PRODID:-//Roxbury Area Chamber of Commerce - ECPv6.15.20//NONSGML v1.0//EN
CALSCALE:GREGORIAN
METHOD:PUBLISH
X-WR-CALNAME:Roxbury Area Chamber of Commerce
X-ORIGINAL-URL:https://roxburynjchamber.org
X-WR-CALDESC:Events for Roxbury Area Chamber of Commerce
REFRESH-INTERVAL;VALUE=DURATION:PT1H
X-Robots-Tag:noindex
X-PUBLISHED-TTL:PT1H
BEGIN:VTIMEZONE
TZID:America/New_York
BEGIN:DAYLIGHT
TZOFFSETFROM:-0500
TZOFFSETTO:-0400
TZNAME:EDT
DTSTART:20240310T070000
END:DAYLIGHT
BEGIN:STANDARD
TZOFFSETFROM:-0400
TZOFFSETTO:-0500
TZNAME:EST
DTSTART:20241103T060000
END:STANDARD
BEGIN:DAYLIGHT
TZOFFSETFROM:-0500
TZOFFSETTO:-0400
TZNAME:EDT
DTSTART:20250309T070000
END:DAYLIGHT
BEGIN:STANDARD
TZOFFSETFROM:-0400
TZOFFSETTO:-0500
TZNAME:EST
DTSTART:20251102T060000
END:STANDARD
BEGIN:DAYLIGHT
TZOFFSETFROM:-0500
TZOFFSETTO:-0400
TZNAME:EDT
DTSTART:20260308T070000
END:DAYLIGHT
BEGIN:STANDARD
TZOFFSETFROM:-0400
TZOFFSETTO:-0500
TZNAME:EST
DTSTART:20261101T060000
END:STANDARD
END:VTIMEZONE
BEGIN:VEVENT
DTSTART;TZID=America/New_York:20250916T073000
DTEND;TZID=America/New_York:20250916T090000
DTSTAMP:20260424T232050
CREATED:20250610T143417Z
LAST-MODIFIED:20250808T154249Z
UID:3503-1758007800-1758013200@roxburynjchamber.org
SUMMARY:Breakfast with the Police Chiefs and County Sheriff 9/16
DESCRIPTION:Breakfast with the Police Chiefs and Morris County Sheriff\nLocal law enforcement leaders join us in a panel discussion on safeguarding our businesses. What are the current crime trends in our area? What can business owners and managers do to secure inventory and assets.\n  \nTuesday September 16th 7:30 AM\nat the Horseshoe Lake building in Succasunna\n(Enter on the side of the building at the curved sidewalk. It’s the Senior Center entrance) \n  \n\n\n\nHear from these local Police Chiefs & Officials with updates that could affect your business \n\n\n\nJames Gannon\, Sheriff\, Morris County\nMatthew Holland\, Police Chief\, Roxbury Township\nJonathan Delaney\, Police Chief\, Dover\, President of Morris County Police Chiefs Association\nMatthew Green\, Police Chief or Sgt. Ryan Shelburne\, Mt. Arlington\nMike Cordileone\, Police Department\, Mt. Olive\nAnthony Coppolella\, Acting Police Chief\, Netcong\nWill Harzula\, Police Chief\, Randolph Township\nDavid Young\, Police Chief\, Wharton/Mine Hill \nModerator: Carl Bonafede \nBreakfast catered by the Roxbury Diner \nAll area business owners and representatives are welcome. More attendees brings better networking and more future referrals. \n$22 per person     Please RSVP by 9/15 \nBring your business cards and marketing materials to share \n\n\n                \n                        \n                            Morning Event Payments\n                             \n							"*" indicates required fields \n                        \n                        CompanyThis field is for validation purposes and should be left unchanged.Name*\n                            \n                            \n                                                    \n                                                    First\n                                                \n                            \n                            \n                                                    \n                                                    Last\n                                                \n                            \n                        Company*Email*\n                            \n                        I am a:*\n			\n					\n					RACC Member\n			\n			\n					\n					Non-Member or Guest\n			Select breakfast tickets below.Member TicketsEnter the number of "member" tickets you'd like to purchase.Morning Meeting Month (Member)January LuncheonFebruary LuncheonMarchApril LuncheonMay LuncheonJune  Multi-Chamber LuncheonSeptember BreakfastOctober LuncheonNovember LuncheonDecember Holiday & Award LuncheonPlease select the Month of the meeting you are registering for. * = Multi-chamber event.Non-Member Tickets:Enter the number of "non-member" tickets you'd like to purchase.Morning Meeting Month (Non-Member)January LuncheonFebruary LuncheonMarchApril LuncheonMay LuncheonJune Multi-Chamber LuncheonSeptember BreakfastOctober LuncheonNovember LuncheonDecember Holiday & Award LuncheonPlease select the Month of the meeting you are registering for. * = Multi-chamber event.Tell my Friend\n								\n								Please tell my friend I am attending.\n							Friend's Email Address*\n                            \n                        Notes & NamesPlease list the names of the additional members\, colleges and/or guests that you are submitting this payment for here.Scholarship Donation\n					\n				In addition to your payment; enter an amount you'd like to contribute.Total (Choose Credit Card or PayPal/Debit Card)\n							\n						Choose Payment Method: Note - if you need a receipt\, you must login to PayPal even if not paying with PayPalPayPal CheckoutCredit Card\n                                    American ExpressMasterCardVisaSupported Credit Cards: American Express\, MasterCard\, Visa\n                                    \n                                    Card Number\n                                 \n                                            \n                                                \n                                                Expiration Date\n                                            \n                                                \n                                                 \n                                                Security Code\n                                             \n                                        \n                                            \n                                            Cardholder Name\n                                         CAPTCHA\n          \n            \n            \n            \n            \n            \n            \n            \n            \n            \n            \n            \n            \n            \n        \n                        \n                        \n\nOUR MEETING SPONSOR IS NISIVOCCIA LLP\n \n\nAt Nisivoccia LLP\, we put our clients first. Our partners and professional staff will understand your operations\, priorities and goals and then work as part of your team to achieve success through advice you can understand\, results you can bank on\, and strategies that make business sense. \n\n\n\n  \n\n\nInformation for our events will be available on our website https://roxburynjchamber.org and will be updated as more information is available. We have a nice mix of luncheons\, evening and morning events to include everyone that can’t make our luncheons. We hope to see you soon! \nParticipation in Chamber events will help increase your referrals and overall business. 
URL:https://roxburynjchamber.org/event/breakfast-with-the-police-chiefs-and-county-sheriff-9-16/
LOCATION:Roxbury Senior Center\, 72 Eyland Avenue\, Succasunna\, NJ\, 07876\, United States
CATEGORIES:RACC Events
ORGANIZER;CN="Roxbury Area Chamber of Commerce":MAILTO:info@roxburynjchamber.org
END:VEVENT
END:VCALENDAR